BEGIN:VCALENDAR
VERSION:2.0
PRODID:-//eventon.com NONSGML v1.0//EN
CALSCALE:GREGORIAN
METHOD:PUBLISH
BEGIN:VEVENT
UID:69e89ffce1ace
DTSTAMP:20260422T101628Z
DTSTART:20260617T173000Z
DTEND:20260617T200000Z
LOCATION:
SUMMARY:Ecco sings Folksongs
DESCRIPTION:\nhttps://ecco-meineke.de/events/ecco-sings-folksongs-9/
URL:https://ecco-meineke.de/events/ecco-sings-folksongs-9/
END:VEVENT
END:VCALENDAR