BEGIN:VCALENDAR
VERSION:2.0
PRODID:-//eventon.com NONSGML v1.0//EN
CALSCALE:GREGORIAN
METHOD:PUBLISH
BEGIN:VEVENT
UID:69e7455918213
DTSTAMP:20260421T093729Z
DTSTART:20250625T170000Z
DTEND:20250625T192500Z
LOCATION:
SUMMARY:Andy Lutter und Ecco Meineke - Jazz & Chansons
DESCRIPTION:\nhttps://ecco-meineke.de/events/andy-lutter-und-ecco-meineke-j
 azz-chansons/
URL:https://ecco-meineke.de/events/andy-lutter-und-ecco-meineke-jazz-chansons/
END:VEVENT
END:VCALENDAR