BEGIN:VCALENDAR
VERSION:2.0
PRODID:-//eventon.com NONSGML v1.0//EN
CALSCALE:GREGORIAN
METHOD:PUBLISH
BEGIN:VEVENT
UID:69e74699114df
DTSTAMP:20260421T094249Z
DTSTART:20250301T200000Z
DTEND:20250301T220000Z
LOCATION:
SUMMARY:Ecco DiLorenzo and his Innersoul
DESCRIPTION:\nhttps://ecco-meineke.de/events/ecco-dilorenzo-and-his-innerso
 ul-11/
URL:https://ecco-meineke.de/events/ecco-dilorenzo-and-his-innersoul-11/
END:VEVENT
END:VCALENDAR