BEGIN:VCALENDAR
VERSION:2.0
PRODID:-//eventon.com NONSGML v1.0//EN
CALSCALE:GREGORIAN
METHOD:PUBLISH
BEGIN:VEVENT
UID:69e72f29c3a8c
DTSTAMP:20260421T080249Z
DTSTART:20240501T101500Z
DTEND:20240501T112500Z
LOCATION:
SUMMARY:Ecco DiLorenzo and The Innersoul Five
DESCRIPTION:\nhttps://ecco-meineke.de/events/ecco-dilorenzo-and-the-innerso
 ul-five-10/
URL:https://ecco-meineke.de/events/ecco-dilorenzo-and-the-innersoul-five-10/
END:VEVENT
END:VCALENDAR