BEGIN:VCALENDAR
VERSION:2.0
PRODID:-//eventon.com NONSGML v1.0//EN
CALSCALE:GREGORIAN
METHOD:PUBLISH
BEGIN:VEVENT
UID:69e7bd8f4121e
DTSTAMP:20260421T181023Z
DTSTART:20220318T190000Z
DTEND:20220318T210000Z
LOCATION:
SUMMARY:Ecco DiLorenzo and the Innersoul 6
DESCRIPTION:Ecco DiLorenzo and the Innersoul 6\nhttps://ecco-meineke.de/eve
 nts/ecco-dilorenzo-and-the-innersoul-6/
URL:https://ecco-meineke.de/events/ecco-dilorenzo-and-the-innersoul-6/
END:VEVENT
END:VCALENDAR