BEGIN:VCALENDAR
VERSION:2.0
PRODID:-//eventon.com NONSGML v1.0//EN
CALSCALE:GREGORIAN
METHOD:PUBLISH
BEGIN:VEVENT
UID:69e73023592f4
DTSTAMP:20260421T080659Z
DTSTART:20210904T160000Z
DTEND:20210904T170000Z
LOCATION:
SUMMARY:Las Caras Lindas  -  Latino-Songs
DESCRIPTION:Las Caras Lindas - Latino-Songs\nhttps://ecco-meineke.de/events
 /las-caras-lindas-latino-songs/
URL:https://ecco-meineke.de/events/las-caras-lindas-latino-songs/
END:VEVENT
END:VCALENDAR